View In:
ArcGIS JavaScript
ArcGIS Online Map Viewer
ArcGIS Earth
Service Description: SHM_2017/Aglomerace_Prumysl_Ln
Name: SHM_2017/Aglomerace_Prumysl_Ln
Description:
Single Fused Map Cache: false
Extent:
XMin: -827303.0
YMin: -1167885.0
XMax: -451237.0
YMax: -968077.0
Spatial Reference: 102067
(5514)
LatestVCSWkid(0)
Initial Extent:
XMin: -827303.0
YMin: -1167885.0
XMax: -451237.0
YMax: -968077.0
Spatial Reference: 102067
(5514)
LatestVCSWkid(0)
Full Extent:
XMin: -827303.0
YMin: -1167885.0
XMax: -451237.0
YMax: -968077.0
Spatial Reference: 102067
(5514)
LatestVCSWkid(0)
Pixel Size X: 1.0
Pixel Size Y: 1.0
Band Count: 1
Pixel Type: U8
RasterFunction Infos: {"rasterFunctionInfos": [
{
"name": "None",
"description": "Make a Raster or Raster Dataset into a Function Raster Dataset.",
"help": ""
},
{
"name": "MezniHodnoty",
"description": "Funkce zobrazující mezní hodnoty, limit 40 dB.",
"help": ""
}
]}
Mensuration Capabilities: Basic
Has Histograms: true
Has Colormap: false
Has Multi Dimensions : false
Rendering Rule:
Min Scale: 0
Max Scale: 0
Copyright Text:
Service Data Type: esriImageServiceDataTypeGeneric
Min Values: 50
Max Values: 75
Mean Values: 53.825147197637165
Standard Deviation Values: 4.247139829707093
Object ID Field:
Fields:
None
Default Mosaic Method: Center
Allowed Mosaic Methods:
SortField:
SortValue: null
Mosaic Operator: First
Default Compression Quality: 75
Default Resampling Method: Bilinear
Max Record Count: null
Max Image Height: 4100
Max Image Width: 15000
Max Download Image Count: null
Max Mosaic Image Count: null
Allow Raster Function: true
Allow Copy: true
Allow Analysis: true
Allow Compute TiePoints: false
Supports Statistics: false
Supports Advanced Queries: false
Use StandardizedQueries: true
Raster Type Infos:
Name: Raster Dataset
Description: Supports all ArcGIS Raster Datasets
Help:
Has Raster Attribute Table: true
Edit Fields Info: null
Ownership Based AccessControl For Rasters: null
Child Resources:
Info
Raster Attribute Table
Histograms
Statistics
Key Properties
Legend
Raster Function Infos
Supported Operations:
Export Image
Identify
Measure
Compute Histograms
Compute Statistics Histograms
Get Samples
Compute Class Statistics
Query Boundary
Compute Pixel Location
Compute Angles
Validate
Project